BEGIN:VCALENDAR
VERSION:2.0
PRODID:-//10.0.0.92//NONSGML kigkonsult.se iCalcreator 2.41.92//
CALSCALE:GREGORIAN
METHOD:PUBLISH
UID:37326337-6531-4232-b635-323932376639
X-WR-CALNAME:Alle Termine
X-WR-CALDESC:
X-WR-TIMEZONE:Europe/Vienna
BEGIN:VEVENT
UID:32343933-6666-4361-b436-393563353535
DTSTAMP:20260425T141929Z
DTSTART:20261016T180000
DTEND:20261018T180000
SUMMARY:West in Carinthia
END:VEVENT
END:VCALENDAR
